BEGIN:VCALENDAR
VERSION:2.0
PRODID:-//hacksw/handcal//NONSGML v1.0//EN
BEGIN:VEVENT
SUMMARY:Passeport Loisirs ( Printemps 2026)
UID:c60c331b-f86d-46fd-b765-aee965e35ac8
DTSTART:20260414T070000Z
DTEND:20260414T100000Z
LOCATION:Localisation   
CATEGORIES:Sportif
STATUS:
DESCRIPTION:<h3><strong>Passeport Loisirs des vacances de
 printemps</strong></h3>
 
 <h3><strong>Du lundi 13 avril au samedi 25
 avril 2026</strong></h3>
 
 <h3>A partir de 23 € la semaine,
 dynamisez les vacances de vos enfants !</h3>
 
 <p>Avec la
 participation des associations locales,<br>
 la Ville de Troyes vous
 propose un programme riche et attractif avec plus de 50 activites
 proposees : ateliers creatifs et culturels, handball, athletisme,
 danse, tennis de table, breakdance, voile, catamaran, canoe kayak,
 petanque, jet-ski, peche, etc.</p>
 
 <p>Ouverture des inscriptions a
 partir du <strong>mardi 7 avril 2026.</strong></p>
 
 <p><em>Le
 Passeport Loisirs permet aux jeunes ages <strong>de 4 a 16 ans,
 troyens ou non troyens,</strong> de decouvrir pendant les vacances
 scolaires d’hiver, de printemps, d’ete et de la Toussaint de
 nombreuses activites sportives et de loisirs au sein des associations
 de l’agglomeration troyenne.</em></p>
URL;VALUE=URI:https://troyes-vols-indoor.sportsregions.fr/evenements/2026/04/14/passeport-loisirs-printemps-2026-2426893
END:VEVENT
END:VCALENDAR
